BEGIN:VCALENDAR
VERSION:2.0
PRODID:-//thewitchdesigns - ECPv6.15.20//NONSGML v1.0//EN
CALSCALE:GREGORIAN
METHOD:PUBLISH
X-WR-CALNAME:thewitchdesigns
X-ORIGINAL-URL:https://thewitchdesigns.com
X-WR-CALDESC:Events for thewitchdesigns
REFRESH-INTERVAL;VALUE=DURATION:PT1H
X-Robots-Tag:noindex
X-PUBLISHED-TTL:PT1H
BEGIN:VTIMEZONE
TZID:America/Chicago
BEGIN:DAYLIGHT
TZOFFSETFROM:-0600
TZOFFSETTO:-0500
TZNAME:CDT
DTSTART:20210314T080000
END:DAYLIGHT
BEGIN:STANDARD
TZOFFSETFROM:-0500
TZOFFSETTO:-0600
TZNAME:CST
DTSTART:20211107T070000
END:STANDARD
BEGIN:DAYLIGHT
TZOFFSETFROM:-0600
TZOFFSETTO:-0500
TZNAME:CDT
DTSTART:20220313T080000
END:DAYLIGHT
BEGIN:STANDARD
TZOFFSETFROM:-0500
TZOFFSETTO:-0600
TZNAME:CST
DTSTART:20221106T070000
END:STANDARD
BEGIN:DAYLIGHT
TZOFFSETFROM:-0600
TZOFFSETTO:-0500
TZNAME:CDT
DTSTART:20230312T080000
END:DAYLIGHT
BEGIN:STANDARD
TZOFFSETFROM:-0500
TZOFFSETTO:-0600
TZNAME:CST
DTSTART:20231105T070000
END:STANDARD
BEGIN:DAYLIGHT
TZOFFSETFROM:-0600
TZOFFSETTO:-0500
TZNAME:CDT
DTSTART:20240310T080000
END:DAYLIGHT
BEGIN:STANDARD
TZOFFSETFROM:-0500
TZOFFSETTO:-0600
TZNAME:CST
DTSTART:20241103T070000
END:STANDARD
END:VTIMEZONE
BEGIN:VTIMEZONE
TZID:UTC
BEGIN:STANDARD
TZOFFSETFROM:+0000
TZOFFSETTO:+0000
TZNAME:UTC
DTSTART:20210101T000000
END:STANDARD
END:VTIMEZONE
BEGIN:VEVENT
DTSTART;TZID=America/Chicago:20230624T180000
DTEND;TZID=America/Chicago:20230624T230000
DTSTAMP:20260421T021743
CREATED:20230518T184016Z
LAST-MODIFIED:20230518T184203Z
UID:12372-1687629600-1687647600@thewitchdesigns.com
SUMMARY:Summer Solstice Festival
DESCRIPTION:Thorn & Moon Magickal Market at Raven Tower\nOver 3 dozen artisan vendors Tarot Readers\, curated music\, food truck\, and drinks from the Raven Tower Bar! Fairie / Mystical Creature Costumes encouraged! \nThorn & Moon\n“Potions & Brews” Bazaar\nSUMMER SOLSTICE\nFestival at Saint Arnold Brewing \n​Over fifty vendors\, artists\, Tarot Readers\, curated music\, food and drinks from the Saint Arnold Restaurant and Biergarten! \nSaturday June 24th\n6pm-11pm\nat Saint Arnold Brewing\n2000 Lyons Ave\nHouston TX 77020
URL:https://thewitchdesigns.com/event/summer-solstice-festival/
LOCATION:Saint Arnold\, 2000 Lyons Ave\, Houston\, Texas\, 77020\, United States
CATEGORIES:Occult Market
ATTACH;FMTTYPE=image/jpeg:https://thewitchdesigns.com/wp-content/uploads/2023/05/summer-solstice-festival-scaled.jpg
END:VEVENT
BEGIN:VEVENT
DTSTART;TZID=America/Chicago:20230603T180000
DTEND;TZID=America/Chicago:20230603T230000
DTSTAMP:20260421T021743
CREATED:20230518T182635Z
LAST-MODIFIED:20230518T182636Z
UID:12367-1685815200-1685833200@thewitchdesigns.com
SUMMARY:Thorn and Moon Magickal Market - June
DESCRIPTION:Thorn & Moon Magickal Market\nat Raven Tower\nOver 3 dozen artisan vendors\,\nTarot Readers\, curated music\,\nfood truck\, and drinks from\nthe Raven Tower Bar!\nFairie / Mystical Creature\nCostumes encouraged! \nDetails:\n​Saturday June 3rd\n6pm-11pm\nThe Raven Tower\n310 North Street
URL:https://thewitchdesigns.com/event/thorn-and-moon-magickal-market-june/
LOCATION:The Raven Tower\, 310 North Street\, Houston\, TX\, 77009\, United States
CATEGORIES:Occult Market
ATTACH;FMTTYPE=image/jpeg:https://thewitchdesigns.com/wp-content/uploads/2023/05/6.3.23-MM-Flyer-Fb.jpg
END:VEVENT
BEGIN:VEVENT
DTSTART;TZID=America/Chicago:20221210T110000
DTEND;TZID=America/Chicago:20221211T180000
DTSTAMP:20260421T021743
CREATED:20221107T172532Z
LAST-MODIFIED:20221107T172921Z
UID:12087-1670670000-1670781600@thewitchdesigns.com
SUMMARY:Holiday VIBE Market
DESCRIPTION:Think Nutcracker Market but all local artisans\, makers & creatives! Join us for an unforgettable 𝙏𝙒𝙊 𝘿𝘼𝙔 Artisan shopping experience INSIDE the X-Atrium (2nd floor) at POST HTX in downtown Houston for our 𝗛𝗼𝗹𝗶𝗱𝗮𝘆 𝗩𝗜𝗕𝗘 𝗠𝗮𝗿𝗸𝗲𝘁 | 𝗛𝗼𝘂𝘀𝘁𝗼𝗻.\n\n𝗢𝘃𝗲𝗿 𝟭𝟱𝟬 local artists\, creatives & makers 𝙚𝙖𝙘𝙝 𝙙𝙖𝙮\n𝗚𝗼𝗿𝗴𝗲𝗼𝘂𝘀 𝘀𝗼𝘂𝗻𝗱𝘀 provided by 𝘿𝙅 𝙇𝙄𝙁𝙏𝙀𝘿\n𝗖𝗼𝗺𝗽𝗹𝗶𝗺𝗲𝗻𝘁𝗮𝗿𝘆 𝗖𝗼𝗰𝗸𝘁𝗮𝗶𝗹𝘀 by 𝘿𝙚𝙨𝙚𝙧𝙩 𝘿𝙤𝙤𝙧\, 𝘿𝙚𝙚𝙥 𝙀𝙙𝙙𝙮 & 𝘿𝙧𝙞𝙥𝙥𝙞𝙣𝙜 𝙎𝙥𝙧𝙞𝙣𝙜𝙨 𝘿𝙞𝙨𝙩𝙞𝙡𝙡𝙞𝙣𝙜\n𝟭𝟬 𝗗𝗶𝗳𝗳𝗲𝗿𝗲𝗻𝘁 concept restaurants\n𝘠𝘰𝘶 𝘸𝘰𝘯𝘵 𝘸𝘢𝘯𝘵 𝘵𝘰 𝘮𝘪𝘴𝘴 𝘵𝘩𝘪𝘴 𝘐𝘕𝘊𝘙𝘌𝘋𝘐𝘉𝘓𝘌 𝘦𝘷𝘦𝘯𝘵 𝘪𝘯𝘴𝘪𝘥𝘦 𝘰𝘧 𝘵𝘩𝘪𝘴 𝘪𝘤𝘰𝘯𝘪𝘤 𝘣𝘶𝘪𝘭𝘥𝘪𝘯𝘨!\n𝗙𝗥𝗘𝗘 𝗮𝗱𝗺𝗶𝘀𝘀𝗶𝗼𝗻 | 𝗸𝗶𝗱 𝗳𝗿𝗶𝗲𝗻𝗱𝗹𝘆\n \n\nDetails\nDecember 10-11\n11am-6pm\nPOST Houston\n401 Franklin St.\nHouston\, TX 77201
URL:https://thewitchdesigns.com/event/holiday-vibe-market/
LOCATION:POST Housto\, 401 Franklin St\, Houston\, TX\, 77201\, United States
CATEGORIES:Market
ATTACH;FMTTYPE=image/png:https://thewitchdesigns.com/wp-content/uploads/2022/11/HTX-Holiday-POST-Facebook-3.png
END:VEVENT
BEGIN:VEVENT
DTSTART;TZID=UTC:20221204T140000
DTEND;TZID=UTC:20221204T150000
DTSTAMP:20260421T021743
CREATED:20221107T165152Z
LAST-MODIFIED:20221107T165152Z
UID:12076-1670162400-1670166000@thewitchdesigns.com
SUMMARY:DIY Ornament Class
DESCRIPTION:Get out of the house with a fun holiday DIY class for the kids. Featuring 3 different ornament designs laser cut out of wood along with accessories to customize the design. Ornaments include 1 reindeer\, 1 penguin\, and 1 Christmas tree to paint and decorate how you please. Located on the 3rd floor of Mala Market\, you can shop while your children craft! \nWhat you will receive per ticket: \n\n3 ornaments\nmatching assorted accessories\nribbon for accessories\nnon-toxic acrylic paint\nnon-toxic washable glue (Elmers)\n\nDetails: \n\nSunday Decemeber 4th\n2-3pm\nMala Market – 3rd Floor\n1302 W Gray St\, Houston\, TX 77019\n\n*Children under 6 must be supervised at all times. Bring painting clothes in case they get dirty. Parents must stay inside Mala Market for the duration of the event. \n\n\n\n\n\n\n\n\n\n\n\n\n\n\n\n\n\nGet Tickets Here
URL:https://thewitchdesigns.com/event/diy-ornament-class/
LOCATION:Mala Market\, 1302 W Gray St\, Houston\, TX\, 77019\, United States
CATEGORIES:Class
ATTACH;FMTTYPE=image/png:https://thewitchdesigns.com/wp-content/uploads/2022/11/byoornaments-eventbrite.png
END:VEVENT
BEGIN:VEVENT
DTSTART;TZID=America/Chicago:20221119T100000
DTEND;TZID=America/Chicago:20221119T150000
DTSTAMP:20260421T021743
CREATED:20221107T171452Z
LAST-MODIFIED:20221107T171709Z
UID:12083-1668852000-1668870000@thewitchdesigns.com
SUMMARY:Holiday Market at Houston Botanic Garden
DESCRIPTION:Get your plant on for this festive market at the Houston Botanic Garden. Hosted by Houston Plant Market\, featuring tons of planty vendors and yours truly! \nCome join Houston’s official plant market at the Houston Botanic Garden for a daytime market featuring over 40 local plant\, craft\, art\, and food vendors! In addition to a variety of vendors\, Houston Plant Market is also offering\, educational plant workshops\, yoga\, and art therapy sessions!​ \nHouston Plant Market is quickly becoming one of Houston’s most popular markets\, thanks to a variety of partnerships with local organizations\, the most recent being the City of Houston and the Houston Downtown Management District. They host several markets per month all around the Houston area; one of their partnerships being A 2nd Cup\, Houston’s first and only 501-3(c) non-profit coffee shop\, fighting to end human trafficking in Houston. To find out more details\, visit them on their website\, houstonplantmarket.com\, or follow them on Instagram @houstonplantmarket. ​ \nMarket is included in your Garden admission \nDetails:\n11/19 from 10-3pm\nHouston Botanic Garden\nOne Botanic Lane\nHouston\, TX 77017 \nGet Tickets Here
URL:https://thewitchdesigns.com/event/holiday-market-at-houston-botanic-garden/
LOCATION:Houston Botanic Garden\, One Botanic Lane\, Houston\, TX\, 77017\, United States
CATEGORIES:Plant Market
END:VEVENT
BEGIN:VEVENT
DTSTART;TZID=America/Chicago:20221029T170000
DTEND;TZID=America/Chicago:20221029T220000
DTSTAMP:20260421T021743
CREATED:20221004T233031Z
LAST-MODIFIED:20221004T233031Z
UID:5855-1667062800-1667080800@thewitchdesigns.com
SUMMARY:Macabre Market Oct. 29
DESCRIPTION:Catch me at the October 29 Macabre Market featuring Houston’s coolest occult vendors\, music\, henna\, tattoos\, taxidermy\, and so much more. \nCome dressed in your best costume for the chance to win $100 cash! \nLocated at Railway Heights on Washington Ave. 5-10pm
URL:https://thewitchdesigns.com/event/macabre-market-oct-29/
LOCATION:Railway Heights\, 8200 Washington Ave\, Houston\, TX\, 77007
CATEGORIES:Occult Market
ATTACH;FMTTYPE=image/jpeg:https://thewitchdesigns.com/wp-content/uploads/2022/10/october29thmarketsquare.jpg
END:VEVENT
BEGIN:VEVENT
DTSTART;TZID=America/Chicago:20221014T170000
DTEND;TZID=America/Chicago:20221014T220000
DTSTAMP:20260421T021743
CREATED:20221004T125143Z
LAST-MODIFIED:20221004T233505Z
UID:5850-1665766800-1665784800@thewitchdesigns.com
SUMMARY:Thorn & Moon Carnivale Spooktacular
DESCRIPTION:Join myself and a ton of other spooky vendors at the Carnivale Spooktacular on October 14 from 5-10pm at Market Square Park in Downtown Houston. \n\nCirque Performers!\nTrick-or-treating!\nMusic!\nFood Trucks!\nCostume Contest!\nPhoto Booth!
URL:https://thewitchdesigns.com/event/thorn-moon-carnivale-spooktacular/
LOCATION:Market Square Park\, 301 Milam St\, Houston\, TX\, 77002\, United States
CATEGORIES:Occult Market
ATTACH;FMTTYPE=image/jpeg:https://thewitchdesigns.com/wp-content/uploads/2022/10/carnivale-spooktacular-fb-flyer.jpg
END:VEVENT
END:VCALENDAR